BEGIN:VCALENDAR
VERSION:2.0
PRODID:-//Waldverband Salzburg - ECPv6.15.18//NONSGML v1.0//EN
CALSCALE:GREGORIAN
METHOD:PUBLISH
X-ORIGINAL-URL:https://www.waldverbandsalzburg.at
X-WR-CALDESC:Veranstaltungen für Waldverband Salzburg
REFRESH-INTERVAL;VALUE=DURATION:PT1H
X-Robots-Tag:noindex
X-PUBLISHED-TTL:PT1H
BEGIN:VTIMEZONE
TZID:Europe/Berlin
BEGIN:DAYLIGHT
TZOFFSETFROM:+0100
TZOFFSETTO:+0200
TZNAME:CEST
DTSTART:20240331T010000
END:DAYLIGHT
BEGIN:STANDARD
TZOFFSETFROM:+0200
TZOFFSETTO:+0100
TZNAME:CET
DTSTART:20241027T010000
END:STANDARD
BEGIN:DAYLIGHT
TZOFFSETFROM:+0100
TZOFFSETTO:+0200
TZNAME:CEST
DTSTART:20250330T010000
END:DAYLIGHT
BEGIN:STANDARD
TZOFFSETFROM:+0200
TZOFFSETTO:+0100
TZNAME:CET
DTSTART:20251026T010000
END:STANDARD
BEGIN:DAYLIGHT
TZOFFSETFROM:+0100
TZOFFSETTO:+0200
TZNAME:CEST
DTSTART:20260329T010000
END:DAYLIGHT
BEGIN:STANDARD
TZOFFSETFROM:+0200
TZOFFSETTO:+0100
TZNAME:CET
DTSTART:20261025T010000
END:STANDARD
END:VTIMEZONE
BEGIN:VEVENT
DTSTART;TZID=Europe/Berlin:20250307T090000
DTEND;TZID=Europe/Berlin:20250307T120000
DTSTAMP:20260422T121058
CREATED:20250211T120704Z
LAST-MODIFIED:20250430T083417Z
UID:3830-1741338000-1741348800@www.waldverbandsalzburg.at
SUMMARY:55. Salzburger Waldbauerntag 2025
DESCRIPTION:
URL:https://www.waldverbandsalzburg.at/event/55-salzburger-waldbauerntag-2025/
LOCATION:Heffterhof Salzburg\, Maria-Cebotari-Straße 1 – 7\, 5020 Salzburg\, Salzburg\, 5020\, Österreich
ORGANIZER;CN="Waldverband Salzburg":MAILTO:forst@lk-salzburg.at
END:VEVENT
BEGIN:VEVENT
DTSTART;VALUE=DATE:20250321
DTEND;VALUE=DATE:20250322
DTSTAMP:20260422T121058
CREATED:20250211T121447Z
LAST-MODIFIED:20250211T121531Z
UID:3837-1742515200-1742601599@www.waldverbandsalzburg.at
SUMMARY:Internationaler Tag des Waldes
DESCRIPTION:
URL:https://www.waldverbandsalzburg.at/event/internationaler-tag-des-waldes/
ORGANIZER;CN="Waldverband Salzburg":MAILTO:forst@lk-salzburg.at
END:VEVENT
END:VCALENDAR