BEGIN:VCALENDAR
VERSION:2.0
PRODID:-//Waldverband Salzburg - ECPv6.15.20//NONSGML v1.0//EN
CALSCALE:GREGORIAN
METHOD:PUBLISH
X-WR-CALNAME:Waldverband Salzburg
X-ORIGINAL-URL:https://www.waldverbandsalzburg.at
X-WR-CALDESC:Veranstaltungen für Waldverband Salzburg
REFRESH-INTERVAL;VALUE=DURATION:PT1H
X-Robots-Tag:noindex
X-PUBLISHED-TTL:PT1H
BEGIN:VTIMEZONE
TZID:Europe/Berlin
BEGIN:DAYLIGHT
TZOFFSETFROM:+0100
TZOFFSETTO:+0200
TZNAME:CEST
DTSTART:20240331T010000
END:DAYLIGHT
BEGIN:STANDARD
TZOFFSETFROM:+0200
TZOFFSETTO:+0100
TZNAME:CET
DTSTART:20241027T010000
END:STANDARD
BEGIN:DAYLIGHT
TZOFFSETFROM:+0100
TZOFFSETTO:+0200
TZNAME:CEST
DTSTART:20250330T010000
END:DAYLIGHT
BEGIN:STANDARD
TZOFFSETFROM:+0200
TZOFFSETTO:+0100
TZNAME:CET
DTSTART:20251026T010000
END:STANDARD
BEGIN:DAYLIGHT
TZOFFSETFROM:+0100
TZOFFSETTO:+0200
TZNAME:CEST
DTSTART:20260329T010000
END:DAYLIGHT
BEGIN:STANDARD
TZOFFSETFROM:+0200
TZOFFSETTO:+0100
TZNAME:CET
DTSTART:20261025T010000
END:STANDARD
END:VTIMEZONE
BEGIN:VEVENT
DTSTART;VALUE=DATE:20250220
DTEND;VALUE=DATE:20250224
DTSTAMP:20260424T115834
CREATED:20250211T121130Z
LAST-MODIFIED:20250211T121130Z
UID:3834-1740009600-1740355199@www.waldverbandsalzburg.at
SUMMARY:Die Hohe Jagd & Fischerei
DESCRIPTION:Internationale Messe für Jagd\, Fischerei\, Abenteuer\, Natur & Reisen
URL:https://www.waldverbandsalzburg.at/event/die-hohe-jagd-fischerei/
LOCATION:messezentrum salzburg\, Am Messezentrum 1\, Salzburg\, Salzburg\, 5020\, Österreich
END:VEVENT
END:VCALENDAR